BEGIN:VCALENDAR
VERSION:2.0
PRODID:icalendar-ruby
CALSCALE:GREGORIAN
METHOD:PUBLISH
BEGIN:VEVENT
DTSTAMP:20260419T165159Z
UID:12-265688@cotrdeming.org
DTSTART:20260716T003000Z
DTEND:20260716T013000Z
CLASS:PUBLIC
CREATED:20260419T073620
DESCRIPTION:Midweek Service
LAST-MODIFIED:20260419T073620
LOCATION:CHURCH ON THE ROCK
SUMMARY:Midweek Service
URL;VALUE=URI:https://www.cotrdeming.org/events/midweek-service/2026-07-15
END:VEVENT
END:VCALENDAR
