BEGIN:VCALENDAR
VERSION:2.0
PRODID:icalendar-ruby
CALSCALE:GREGORIAN
METHOD:PUBLISH
BEGIN:VEVENT
DTSTAMP:20260421T102953Z
UID:12-266877@cotrdeming.org
DTSTART:20260723T003000Z
DTEND:20260723T013000Z
CLASS:PUBLIC
CREATED:20260420T192356
DESCRIPTION:Midweek Service
LAST-MODIFIED:20260420T192356
LOCATION:CHURCH ON THE ROCK
SUMMARY:Midweek Service
URL;VALUE=URI:https://www.cotrdeming.org/events/midweek-service/2026-07-22
END:VEVENT
END:VCALENDAR
