BEGIN:VCALENDAR
VERSION:2.0
PRODID:icalendar-ruby
CALSCALE:GREGORIAN
METHOD:PUBLISH
BEGIN:VEVENT
DTSTAMP:20260421T140412Z
UID:12-266987@cotrdeming.org
DTSTART:20260806T003000Z
DTEND:20260806T013000Z
CLASS:PUBLIC
CREATED:20260421T063133
DESCRIPTION:Midweek Service
LAST-MODIFIED:20260421T063133
LOCATION:CHURCH ON THE ROCK
SUMMARY:Midweek Service
URL;VALUE=URI:https://www.cotrdeming.org/events/midweek-service/2026-08-05
END:VEVENT
END:VCALENDAR
