BEGIN:VCALENDAR
VERSION:2.0
PRODID:icalendar-ruby
CALSCALE:GREGORIAN
METHOD:PUBLISH
BEGIN:VEVENT
DTSTAMP:20260421T183641Z
UID:12-267206@cotrdeming.org
DTSTART:20260827T003000Z
DTEND:20260827T013000Z
CLASS:PUBLIC
CREATED:20260421T114721
DESCRIPTION:Midweek Service
LAST-MODIFIED:20260421T114721
LOCATION:CHURCH ON THE ROCK
SUMMARY:Midweek Service
URL;VALUE=URI:https://www.cotrdeming.org/events/midweek-service/2026-08-26
END:VEVENT
END:VCALENDAR
