BEGIN:VCALENDAR
VERSION:2.0
PRODID:icalendar-ruby
CALSCALE:GREGORIAN
METHOD:PUBLISH
BEGIN:VEVENT
DTSTAMP:20260421T213839Z
UID:12-267316@cotrdeming.org
DTSTART:20260910T003000Z
DTEND:20260910T013000Z
CLASS:PUBLIC
CREATED:20260421T142303
DESCRIPTION:Midweek Service
LAST-MODIFIED:20260421T142303
LOCATION:CHURCH ON THE ROCK
SUMMARY:Midweek Service
URL;VALUE=URI:https://www.cotrdeming.org/events/midweek-service/2026-09-09
END:VEVENT
END:VCALENDAR
