BEGIN:VCALENDAR
VERSION:2.0
PRODID:icalendar-ruby
CALSCALE:GREGORIAN
METHOD:PUBLISH
BEGIN:VEVENT
DTSTAMP:20260423T153647Z
UID:12-268294@cotrdeming.org
DTSTART:20261015T003000Z
DTEND:20261015T013000Z
CLASS:PUBLIC
CREATED:20260423T065020
DESCRIPTION:Midweek Service
LAST-MODIFIED:20260423T065020
LOCATION:CHURCH ON THE ROCK
SUMMARY:Midweek Service
URL;VALUE=URI:https://www.cotrdeming.org/events/midweek-service/2026-10-14
END:VEVENT
END:VCALENDAR
