BEGIN:VCALENDAR
VERSION:2.0
PRODID:icalendar-ruby
CALSCALE:GREGORIAN
METHOD:PUBLISH
BEGIN:VEVENT
DTSTAMP:20260421T145217Z
UID:8-266936@cotrdeming.org
DTSTART:20260823T160000Z
DTEND:20260823T170000Z
CLASS:PUBLIC
CREATED:20260421T063133
DESCRIPTION:Sunday Service
LAST-MODIFIED:20260421T063133
LOCATION:CHURCH ON THE ROCK
SUMMARY:Sunday Service
URL;VALUE=URI:https://www.cotrdeming.org/events/sunday-service/2026-08-23
END:VEVENT
END:VCALENDAR
