BEGIN:VCALENDAR
VERSION:2.0
PRODID:icalendar-ruby
CALSCALE:GREGORIAN
METHOD:PUBLISH
BEGIN:VEVENT
DTSTAMP:20260421T192924Z
UID:8-267155@cotrdeming.org
DTSTART:20260913T160000Z
DTEND:20260913T170000Z
CLASS:PUBLIC
CREATED:20260421T114720
DESCRIPTION:Sunday Service
LAST-MODIFIED:20260421T114720
LOCATION:CHURCH ON THE ROCK
SUMMARY:Sunday Service
URL;VALUE=URI:https://www.cotrdeming.org/events/sunday-service/2026-09-13
END:VEVENT
END:VCALENDAR
