BEGIN:VCALENDAR
VERSION:2.0
PRODID:icalendar-ruby
CALSCALE:GREGORIAN
METHOD:PUBLISH
BEGIN:VEVENT
DTSTAMP:20260423T162932Z
UID:8-268351@cotrdeming.org
DTSTART:20261025T160000Z
DTEND:20261025T170000Z
CLASS:PUBLIC
CREATED:20260423T094239
DESCRIPTION:Sunday Service
LAST-MODIFIED:20260423T094239
LOCATION:CHURCH ON THE ROCK
SUMMARY:Sunday Service
URL;VALUE=URI:https://www.cotrdeming.org/events/sunday-service/2026-10-25
END:VEVENT
END:VCALENDAR
